Package: SigsPack Version: 1.21.0 Command: /Library/Frameworks/R.framework/Resources/bin/R CMD INSTALL SigsPack StartedAt: 2025-01-31 15:28:35 -0500 (Fri, 31 Jan 2025) EndedAt: 2025-01-31 15:28:38 -0500 (Fri, 31 Jan 2025) EllapsedTime: 3.5 seconds RetCode: 0 Status: OK