Package: SigFuge Version: 1.45.0 Command: /home/biocbuild/R/R/bin/R CMD check --install=check:SigFuge.install-out.txt --library=/home/biocbuild/R/R/site-library --no-vignettes --timings SigFuge_1.45.0.tar.gz StartedAt: 2025-01-28 15:19:31 -0000 (Tue, 28 Jan 2025) EndedAt: 2025-01-28 15:22:08 -0000 (Tue, 28 Jan 2025) EllapsedTime: 157.2 seconds RetCode: 0 Status: OK CheckDir: SigFuge.Rcheck Warnings: 0