Package: SigCheck Version: 2.39.0 Command: /Library/Frameworks/R.framework/Resources/bin/R CMD build --keep-empty-dirs --no-resave-data SigCheck StartedAt: 2025-01-31 17:38:10 -0500 (Fri, 31 Jan 2025) EndedAt: 2025-01-31 17:38:22 -0500 (Fri, 31 Jan 2025) EllapsedTime: 12.1 seconds RetCode: 1 Status: ERROR PackageFile: None PackageFileSize: NA