Package: SeqVarTools Version: 1.45.0 Command: /home/biocbuild/R/R/bin/R CMD build --keep-empty-dirs --no-resave-data SeqVarTools StartedAt: 2025-01-29 02:19:10 -0000 (Wed, 29 Jan 2025) EndedAt: 2025-01-29 02:20:11 -0000 (Wed, 29 Jan 2025) EllapsedTime: 61.1 seconds RetCode: 0 Status: OK PackageFile: SeqVarTools_1.45.0.tar.gz PackageFileSize: 992.7 KiB