Package: SeqSQC Version: 1.29.0 Command: rm -rf SeqSQC.buildbin-libdir && mkdir SeqSQC.buildbin-libdir && /Users/biocbuild/BBS/utils/build-universal.sh SeqSQC_1.29.0.tar.gz /Library/Frameworks/R.framework/Resources/bin/R SeqSQC.buildbin-libdir StartedAt: 2025-02-03 00:45:08 -0500 (Mon, 03 Feb 2025) EndedAt: 2025-02-03 00:45:39 -0500 (Mon, 03 Feb 2025) EllapsedTime: 31.1 seconds RetCode: 0 Status: OK PackageFile: SeqSQC_1.29.0.tgz PackageFileSize: 4.849 MiB