Package: SeqSQC Version: 1.29.0 Command: /home/biocbuild/R/R/bin/R CMD INSTALL SeqSQC StartedAt: 2025-01-29 20:09:18 -0000 (Wed, 29 Jan 2025) EndedAt: 2025-01-29 20:09:46 -0000 (Wed, 29 Jan 2025) EllapsedTime: 28.1 seconds RetCode: 0 Status: OK