Package: SeqGate Version: 1.17.0 Command: /Library/Frameworks/R.framework/Resources/bin/R CMD INSTALL SeqGate StartedAt: 2025-01-31 15:13:30 -0500 (Fri, 31 Jan 2025) EndedAt: 2025-01-31 15:13:57 -0500 (Fri, 31 Jan 2025) EllapsedTime: 27.1 seconds RetCode: 0 Status: OK