Package: SeqGSEA Version: 1.47.0 Command: E:\biocbuild\bbs-3.21-bioc\R\bin\R.exe CMD check --no-multiarch --install=check:SeqGSEA.install-out.txt --library=E:\biocbuild\bbs-3.21-bioc\R\library --no-vignettes --timings SeqGSEA_1.47.0.tar.gz StartedAt: 2025-02-01 05:01:47 -0500 (Sat, 01 Feb 2025) EndedAt: 2025-02-01 05:08:29 -0500 (Sat, 01 Feb 2025) EllapsedTime: 402.2 seconds RetCode: 0 Status: OK CheckDir: SeqGSEA.Rcheck Warnings: 0