Package: SeqArray Version: 1.47.2 Command: E:\biocbuild\bbs-3.21-bioc\R\bin\R.exe CMD check --no-multiarch --install=check:SeqArray.install-out.txt --library=E:\biocbuild\bbs-3.21-bioc\R\library --no-vignettes --timings SeqArray_1.47.2.tar.gz StartedAt: 2025-02-01 05:01:01 -0500 (Sat, 01 Feb 2025) EndedAt: 2025-02-01 05:03:54 -0500 (Sat, 01 Feb 2025) EllapsedTime: 173.1 seconds RetCode: 0 Status: OK CheckDir: SeqArray.Rcheck Warnings: 0