Package: SemDist Version: 1.41.0 Command: /Library/Frameworks/R.framework/Resources/bin/R CMD check --install=check:SemDist.install-out.txt --library=/Library/Frameworks/R.framework/Resources/library --no-vignettes --timings SemDist_1.41.0.tar.gz StartedAt: 2025-01-31 23:01:28 -0500 (Fri, 31 Jan 2025) EndedAt: 2025-01-31 23:04:30 -0500 (Fri, 31 Jan 2025) EllapsedTime: 182.1 seconds RetCode: 0 Status: OK CheckDir: SemDist.Rcheck Warnings: 0