Package: Sconify Version: 1.27.0 Command: /home/biocbuild/bbs-3.21-bioc/R/bin/R CMD build --keep-empty-dirs --no-resave-data Sconify StartedAt: 2025-01-31 19:11:10 -0500 (Fri, 31 Jan 2025) EndedAt: 2025-01-31 19:11:41 -0500 (Fri, 31 Jan 2025) EllapsedTime: 31.1 seconds RetCode: 0 Status: OK PackageFile: Sconify_1.27.0.tar.gz PackageFileSize: 4.8 MiB