Package: Sconify Version: 1.27.0 Command: /home/biocbuild/R/R/bin/R CMD check --install=check:Sconify.install-out.txt --library=/home/biocbuild/R/R/site-library --no-vignettes --timings Sconify_1.27.0.tar.gz StartedAt: 2025-01-28 15:03:29 -0000 (Tue, 28 Jan 2025) EndedAt: 2025-01-28 15:06:49 -0000 (Tue, 28 Jan 2025) EllapsedTime: 200.1 seconds RetCode: 0 Status: OK CheckDir: Sconify.Rcheck Warnings: 0