Package: Sconify Version: 1.27.0 Command: /home/biocbuild/R/R/bin/R CMD build --keep-empty-dirs --no-resave-data Sconify StartedAt: 2025-01-29 02:07:59 -0000 (Wed, 29 Jan 2025) EndedAt: 2025-01-29 02:08:47 -0000 (Wed, 29 Jan 2025) EllapsedTime: 48.0 seconds RetCode: 0 Status: OK PackageFile: Sconify_1.27.0.tar.gz PackageFileSize: 4.466 MiB