Package: Scale4C Version: 1.29.0 Command: /Library/Frameworks/R.framework/Resources/bin/R CMD build --keep-empty-dirs --no-resave-data Scale4C StartedAt: 2025-01-31 18:06:45 -0500 (Fri, 31 Jan 2025) EndedAt: 2025-01-31 18:08:33 -0500 (Fri, 31 Jan 2025) EllapsedTime: 107.5 seconds RetCode: 0 Status: OK PackageFile: Scale4C_1.29.0.tar.gz PackageFileSize: 4.901 MiB