Package: STdeconvolve Version: 1.11.1 Command: /home/biocbuild/R/R/bin/R CMD INSTALL STdeconvolve StartedAt: 2025-01-29 20:45:09 -0000 (Wed, 29 Jan 2025) EndedAt: 2025-01-29 20:45:09 -0000 (Wed, 29 Jan 2025) EllapsedTime: 0.3 seconds RetCode: 1 Status: ERROR