Package: SQLDataFrame Version: 1.21.0 Maintainer: Qian Liu MaintainerEmail: Qian.Liu at RoswellPark.org git_url: https://git.bioconductor.org/packages/SQLDataFrame git_branch: devel git_last_commit: 909e7f6 git_last_commit_date: 2024-10-29 10:37:55 -0500 (Tue, 29 Oct 2024)