Package: SPOTlight Version: 1.11.0 Command: E:\biocbuild\bbs-3.21-bioc\R\bin\R.exe CMD INSTALL SPOTlight StartedAt: 2025-01-31 15:57:35 -0500 (Fri, 31 Jan 2025) EndedAt: 2025-01-31 15:58:05 -0500 (Fri, 31 Jan 2025) EllapsedTime: 30.4 seconds RetCode: 0 Status: OK