Package: SPOTlight Version: 1.11.0 Command: E:\biocbuild\bbs-3.21-bioc\R\bin\R.exe CMD check --no-multiarch --install=check:SPOTlight.install-out.txt --library=E:\biocbuild\bbs-3.21-bioc\R\library --no-vignettes --timings SPOTlight_1.11.0.tar.gz StartedAt: 2025-02-01 05:29:00 -0500 (Sat, 01 Feb 2025) EndedAt: 2025-02-01 05:34:36 -0500 (Sat, 01 Feb 2025) EllapsedTime: 336.0 seconds RetCode: 0 Status: OK CheckDir: SPOTlight.Rcheck Warnings: 0