Package: SPIAT Version: 1.9.0 Command: rm -rf SPIAT.buildbin-libdir && mkdir SPIAT.buildbin-libdir && /Users/biocbuild/BBS/utils/build-universal.sh SPIAT_1.9.0.tar.gz /Library/Frameworks/R.framework/Resources/bin/R SPIAT.buildbin-libdir StartedAt: 2025-02-01 00:41:30 -0500 (Sat, 01 Feb 2025) EndedAt: 2025-02-01 00:42:11 -0500 (Sat, 01 Feb 2025) EllapsedTime: 41.8 seconds RetCode: 0 Status: OK PackageFile: SPIAT_1.9.0.tgz PackageFileSize: 6.895 MiB