Package: SPIAT Version: 1.9.0 Command: rm -rf SPIAT.buildbin-libdir && mkdir SPIAT.buildbin-libdir && /Users/biocbuild/BBS/utils/build-universal.sh SPIAT_1.9.0.tar.gz /Library/Frameworks/R.framework/Resources/bin/R SPIAT.buildbin-libdir StartedAt: 2025-01-31 22:33:59 -0500 (Fri, 31 Jan 2025) EndedAt: 2025-01-31 22:34:12 -0500 (Fri, 31 Jan 2025) EllapsedTime: 13.3 seconds RetCode: 0 Status: OK PackageFile: SPIAT_1.9.0.tgz PackageFileSize: 6.899 MiB