Package: SNPediaR Version: 1.33.0 Command: rm -rf SNPediaR.buildbin-libdir && mkdir SNPediaR.buildbin-libdir && /Users/biocbuild/BBS/utils/build-universal.sh SNPediaR_1.33.0.tar.gz /Library/Frameworks/R.framework/Resources/bin/R SNPediaR.buildbin-libdir StartedAt: 2025-01-31 22:33:31 -0500 (Fri, 31 Jan 2025) EndedAt: 2025-01-31 22:33:34 -0500 (Fri, 31 Jan 2025) EllapsedTime: 2.1 seconds RetCode: 0 Status: OK PackageFile: SNPediaR_1.33.0.tgz PackageFileSize: 244.5 KiB