Package: SNPRelate Version: 1.41.0 Command: E:\biocbuild\bbs-3.21-bioc\R\bin\R.exe CMD INSTALL SNPRelate StartedAt: 2025-01-31 15:22:08 -0500 (Fri, 31 Jan 2025) EndedAt: 2025-01-31 15:23:45 -0500 (Fri, 31 Jan 2025) EllapsedTime: 97.2 seconds RetCode: 0 Status: OK