Package: SNPRelate Version: 1.41.0 Command: rm -rf SNPRelate.buildbin-libdir && mkdir SNPRelate.buildbin-libdir && E:\biocbuild\bbs-3.21-bioc\R\bin\R.exe CMD INSTALL --build --library=SNPRelate.buildbin-libdir SNPRelate_1.41.0.tar.gz StartedAt: 2025-02-01 08:17:48 -0500 (Sat, 01 Feb 2025) EndedAt: 2025-02-01 08:19:56 -0500 (Sat, 01 Feb 2025) EllapsedTime: 127.9 seconds RetCode: 0 Status: OK PackageFile: SNPRelate_1.41.0.zip PackageFileSize: 2.666 MiB