Package: SNPRelate Version: 1.41.0 Command: /Library/Frameworks/R.framework/Resources/bin/R CMD INSTALL SNPRelate StartedAt: 2025-01-31 15:10:23 -0500 (Fri, 31 Jan 2025) EndedAt: 2025-01-31 15:10:49 -0500 (Fri, 31 Jan 2025) EllapsedTime: 26.3 seconds RetCode: 0 Status: OK