Package: SNPRelate Version: 1.41.0 Command: /home/biocbuild/R/R/bin/R CMD INSTALL SNPRelate StartedAt: 2025-01-29 19:35:13 -0000 (Wed, 29 Jan 2025) EndedAt: 2025-01-29 19:36:18 -0000 (Wed, 29 Jan 2025) EllapsedTime: 64.9 seconds RetCode: 0 Status: OK