Package: SNPRelate Version: 1.41.0 Command: /home/biocbuild/R/R/bin/R CMD check --install=check:SNPRelate.install-out.txt --library=/home/biocbuild/R/R/site-library --no-vignettes --timings SNPRelate_1.41.0.tar.gz StartedAt: 2025-01-28 15:29:52 -0000 (Tue, 28 Jan 2025) EndedAt: 2025-01-28 15:34:19 -0000 (Tue, 28 Jan 2025) EllapsedTime: 267.3 seconds RetCode: 0 Status: OK CheckDir: SNPRelate.Rcheck Warnings: 0