Package: SMITE Version: 1.35.0 Command: /home/biocbuild/bbs-3.21-bioc/R/bin/R CMD check --install=check:SMITE.install-out.txt --library=/home/biocbuild/bbs-3.21-bioc/R/site-library --timings SMITE_1.35.0.tar.gz StartedAt: 2025-02-01 02:41:14 -0500 (Sat, 01 Feb 2025) EndedAt: 2025-02-01 02:46:45 -0500 (Sat, 01 Feb 2025) EllapsedTime: 331.4 seconds RetCode: 0 Status: OK CheckDir: SMITE.Rcheck Warnings: 0