Package: SMITE Version: 1.35.0 Command: /Library/Frameworks/R.framework/Resources/bin/R CMD INSTALL SMITE StartedAt: 2025-01-31 15:15:33 -0500 (Fri, 31 Jan 2025) EndedAt: 2025-01-31 15:15:51 -0500 (Fri, 31 Jan 2025) EllapsedTime: 17.8 seconds RetCode: 0 Status: OK