Package: SLqPCR Version: 1.73.0 Command: /Library/Frameworks/R.framework/Resources/bin/R CMD build --keep-empty-dirs --no-resave-data SLqPCR StartedAt: 2025-01-31 18:19:18 -0500 (Fri, 31 Jan 2025) EndedAt: 2025-01-31 18:19:29 -0500 (Fri, 31 Jan 2025) EllapsedTime: 10.3 seconds RetCode: 0 Status: OK PackageFile: SLqPCR_1.73.0.tar.gz PackageFileSize: 220.2 KiB