Package: SIMLR Version: 1.33.0 Command: /Library/Frameworks/R.framework/Resources/bin/R CMD INSTALL SIMLR StartedAt: 2025-01-31 15:02:54 -0500 (Fri, 31 Jan 2025) EndedAt: 2025-01-31 15:03:05 -0500 (Fri, 31 Jan 2025) EllapsedTime: 11.2 seconds RetCode: 0 Status: OK