Package: SIMD Version: 1.25.0 Command: /home/biocbuild/bbs-3.21-bioc/R/bin/R CMD build --keep-empty-dirs --no-resave-data SIMD StartedAt: 2025-01-31 19:19:23 -0500 (Fri, 31 Jan 2025) EndedAt: 2025-01-31 19:19:31 -0500 (Fri, 31 Jan 2025) EllapsedTime: 8.0 seconds RetCode: 0 Status: OK PackageFile: SIMD_1.25.0.tar.gz PackageFileSize: 332.8 KiB