Package: SIM Version: 1.77.0 Command: /home/biocbuild/R/R/bin/R CMD INSTALL SIM StartedAt: 2025-01-29 20:21:08 -0000 (Wed, 29 Jan 2025) EndedAt: 2025-01-29 20:21:33 -0000 (Wed, 29 Jan 2025) EllapsedTime: 25.3 seconds RetCode: 0 Status: OK