Package: SDAMS Version: 1.27.0 Command: /home/biocbuild/R/R/bin/R CMD build --keep-empty-dirs --no-resave-data SDAMS StartedAt: 2025-01-29 02:15:20 -0000 (Wed, 29 Jan 2025) EndedAt: 2025-01-29 02:16:30 -0000 (Wed, 29 Jan 2025) EllapsedTime: 70.0 seconds RetCode: 0 Status: OK PackageFile: SDAMS_1.27.0.tar.gz PackageFileSize: 1.286 MiB