Package: SCOPE Version: 1.19.0 Command: /Library/Frameworks/R.framework/Resources/bin/R CMD build --keep-empty-dirs --no-resave-data SCOPE StartedAt: 2025-01-31 18:11:05 -0500 (Fri, 31 Jan 2025) EndedAt: 2025-01-31 18:20:50 -0500 (Fri, 31 Jan 2025) EllapsedTime: 585.2 seconds RetCode: 0 Status: OK PackageFile: SCOPE_1.19.0.tar.gz PackageFileSize: 391.5 KiB