Package: SCBN Version: 1.25.0 Command: /Library/Frameworks/R.framework/Resources/bin/R CMD INSTALL SCBN StartedAt: 2025-01-31 15:07:31 -0500 (Fri, 31 Jan 2025) EndedAt: 2025-01-31 15:07:54 -0500 (Fri, 31 Jan 2025) EllapsedTime: 23.5 seconds RetCode: 0 Status: OK