Package: SCArray Version: 1.15.1 Command: /Library/Frameworks/R.framework/Resources/bin/R CMD build --keep-empty-dirs --no-resave-data SCArray StartedAt: 2025-01-31 17:30:50 -0500 (Fri, 31 Jan 2025) EndedAt: 2025-01-31 17:31:24 -0500 (Fri, 31 Jan 2025) EllapsedTime: 34.4 seconds RetCode: 0 Status: OK PackageFile: SCArray_1.15.1.tar.gz PackageFileSize: 1.315 MiB