Package: SCArray.sat Version: 1.7.0 Command: /home/biocbuild/bbs-3.21-bioc/R/bin/R CMD INSTALL SCArray.sat StartedAt: 2025-01-31 15:54:31 -0500 (Fri, 31 Jan 2025) EndedAt: 2025-01-31 15:55:11 -0500 (Fri, 31 Jan 2025) EllapsedTime: 40.0 seconds RetCode: 0 Status: OK