Package: SCAN.UPC Version: 2.49.0 Command: E:\biocbuild\bbs-3.21-bioc\R\bin\R.exe CMD INSTALL SCAN.UPC StartedAt: 2025-01-31 16:27:54 -0500 (Fri, 31 Jan 2025) EndedAt: 2025-01-31 16:28:34 -0500 (Fri, 31 Jan 2025) EllapsedTime: 40.2 seconds RetCode: 0 Status: OK