Package: SCAN.UPC Version: 2.49.0 Command: E:\biocbuild\bbs-3.21-bioc\R\bin\R.exe CMD check --no-multiarch --install=check:SCAN.UPC.install-out.txt --library=E:\biocbuild\bbs-3.21-bioc\R\library --no-vignettes --timings SCAN.UPC_2.49.0.tar.gz StartedAt: 2025-02-01 04:39:35 -0500 (Sat, 01 Feb 2025) EndedAt: 2025-02-01 04:43:43 -0500 (Sat, 01 Feb 2025) EllapsedTime: 247.7 seconds RetCode: 0 Status: OK CheckDir: SCAN.UPC.Rcheck Warnings: 0