Package: SCAN.UPC Version: 2.49.0 Command: chmod a+r SCAN.UPC -R && E:\biocbuild\bbs-3.21-bioc\R\bin\R.exe CMD build --keep-empty-dirs --no-resave-data SCAN.UPC StartedAt: 2025-01-31 21:09:45 -0500 (Fri, 31 Jan 2025) EndedAt: 2025-01-31 21:10:38 -0500 (Fri, 31 Jan 2025) EllapsedTime: 52.8 seconds RetCode: 0 Status: OK PackageFile: SCAN.UPC_2.49.0.tar.gz PackageFileSize: 558.1 KiB