Package: SCAN.UPC Version: 2.49.0 Command: /home/biocbuild/bbs-3.21-bioc/R/bin/R CMD check --install=check:SCAN.UPC.install-out.txt --library=/home/biocbuild/bbs-3.21-bioc/R/site-library --timings SCAN.UPC_2.49.0.tar.gz StartedAt: 2025-01-22 02:03:28 -0500 (Wed, 22 Jan 2025) EndedAt: 2025-01-22 02:07:20 -0500 (Wed, 22 Jan 2025) EllapsedTime: 232.3 seconds RetCode: 0 Status: OK CheckDir: SCAN.UPC.Rcheck Warnings: 0