Package: SBMLR Version: 2.3.0 Command: /home/biocbuild/bbs-3.21-bioc/R/bin/R CMD check --install=check:SBMLR.install-out.txt --library=/home/biocbuild/bbs-3.21-bioc/R/site-library --timings SBMLR_2.3.0.tar.gz StartedAt: 2025-02-01 02:07:10 -0500 (Sat, 01 Feb 2025) EndedAt: 2025-02-01 02:07:45 -0500 (Sat, 01 Feb 2025) EllapsedTime: 35.0 seconds RetCode: 0 Status: OK CheckDir: SBMLR.Rcheck Warnings: 0