Package: SBGNview Version: 1.21.0 Command: /home/biocbuild/bbs-3.21-bioc/R/bin/R CMD build --keep-empty-dirs --no-resave-data SBGNview StartedAt: 2025-01-31 19:05:38 -0500 (Fri, 31 Jan 2025) EndedAt: 2025-01-31 19:07:47 -0500 (Fri, 31 Jan 2025) EllapsedTime: 129.2 seconds RetCode: 0 Status: OK PackageFile: SBGNview_1.21.0.tar.gz PackageFileSize: 1.676 MiB