Package: SAIGEgds Version: 2.7.1 Command: chmod a+r SAIGEgds -R && E:\biocbuild\bbs-3.21-bioc\R\bin\R.exe CMD build --keep-empty-dirs --no-resave-data SAIGEgds StartedAt: 2025-01-31 21:08:30 -0500 (Fri, 31 Jan 2025) EndedAt: 2025-01-31 21:10:56 -0500 (Fri, 31 Jan 2025) EllapsedTime: 145.3 seconds RetCode: 0 Status: OK PackageFile: SAIGEgds_2.7.1.tar.gz PackageFileSize: 1.858 MiB