Package: SAIGEgds Version: 2.7.1 Command: rm -rf SAIGEgds.buildbin-libdir && mkdir SAIGEgds.buildbin-libdir && E:\biocbuild\bbs-3.21-bioc\R\bin\R.exe CMD INSTALL --build --library=SAIGEgds.buildbin-libdir SAIGEgds_2.7.1.tar.gz StartedAt: 2025-02-01 08:08:10 -0500 (Sat, 01 Feb 2025) EndedAt: 2025-02-01 08:10:48 -0500 (Sat, 01 Feb 2025) EllapsedTime: 158.1 seconds RetCode: 0 Status: OK PackageFile: SAIGEgds_2.7.1.zip PackageFileSize: 2.545 MiB