Package: Rvisdiff Version: 1.5.0 Command: /Library/Frameworks/R.framework/Resources/bin/R CMD INSTALL Rvisdiff StartedAt: 2025-01-31 15:03:06 -0500 (Fri, 31 Jan 2025) EndedAt: 2025-01-31 15:03:13 -0500 (Fri, 31 Jan 2025) EllapsedTime: 6.8 seconds RetCode: 0 Status: OK