Package: Rtreemix Version: 1.69.0 Command: E:\biocbuild\bbs-3.21-bioc\R\bin\R.exe CMD INSTALL Rtreemix StartedAt: 2025-01-31 15:48:19 -0500 (Fri, 31 Jan 2025) EndedAt: 2025-01-31 15:48:27 -0500 (Fri, 31 Jan 2025) EllapsedTime: 7.9 seconds RetCode: 1 Status: ERROR