Package: Rtreemix Version: 1.69.0 Command: rm -rf Rtreemix.buildbin-libdir && mkdir Rtreemix.buildbin-libdir && E:\biocbuild\bbs-3.21-bioc\R\bin\R.exe CMD INSTALL --build --library=Rtreemix.buildbin-libdir Rtreemix_1.69.0.tar.gz StartedAt: 2024-10-31 08:25:46 -0400 (Thu, 31 Oct 2024) EndedAt: 2024-10-31 08:27:05 -0400 (Thu, 31 Oct 2024) EllapsedTime: 79.2 seconds RetCode: 0 Status: OK PackageFile: Rtreemix_1.69.0.zip PackageFileSize: 1.136 MiB