Package: Rqc Version: 1.41.0 Command: /home/biocbuild/bbs-3.21-bioc/R/bin/R CMD build --keep-empty-dirs --no-resave-data Rqc StartedAt: 2025-01-31 19:02:36 -0500 (Fri, 31 Jan 2025) EndedAt: 2025-01-31 19:04:02 -0500 (Fri, 31 Jan 2025) EllapsedTime: 86.1 seconds RetCode: 0 Status: OK PackageFile: Rqc_1.41.0.tar.gz PackageFileSize: 1.331 MiB