Package: Rnits Version: 1.41.0 Command: /Library/Frameworks/R.framework/Resources/bin/R CMD INSTALL Rnits StartedAt: 2025-01-31 15:06:59 -0500 (Fri, 31 Jan 2025) EndedAt: 2025-01-31 15:07:04 -0500 (Fri, 31 Jan 2025) EllapsedTime: 4.3 seconds RetCode: 0 Status: OK